BEGIN:VCALENDAR
VERSION:2.0
PRODID:-//Pathways Vermont - ECPv6.15.20//NONSGML v1.0//EN
CALSCALE:GREGORIAN
METHOD:PUBLISH
X-WR-CALNAME:Pathways Vermont
X-ORIGINAL-URL:https://www.pathwaysvermont.org
X-WR-CALDESC:Events for Pathways Vermont
REFRESH-INTERVAL;VALUE=DURATION:PT1H
X-Robots-Tag:noindex
X-PUBLISHED-TTL:PT1H
BEGIN:VTIMEZONE
TZID:America/New_York
BEGIN:DAYLIGHT
TZOFFSETFROM:-0500
TZOFFSETTO:-0400
TZNAME:EDT
DTSTART:20210314T070000
END:DAYLIGHT
BEGIN:STANDARD
TZOFFSETFROM:-0400
TZOFFSETTO:-0500
TZNAME:EST
DTSTART:20211107T060000
END:STANDARD
BEGIN:DAYLIGHT
TZOFFSETFROM:-0500
TZOFFSETTO:-0400
TZNAME:EDT
DTSTART:20220313T070000
END:DAYLIGHT
BEGIN:STANDARD
TZOFFSETFROM:-0400
TZOFFSETTO:-0500
TZNAME:EST
DTSTART:20221106T060000
END:STANDARD
BEGIN:DAYLIGHT
TZOFFSETFROM:-0500
TZOFFSETTO:-0400
TZNAME:EDT
DTSTART:20230312T070000
END:DAYLIGHT
BEGIN:STANDARD
TZOFFSETFROM:-0400
TZOFFSETTO:-0500
TZNAME:EST
DTSTART:20231105T060000
END:STANDARD
BEGIN:DAYLIGHT
TZOFFSETFROM:-0500
TZOFFSETTO:-0400
TZNAME:EDT
DTSTART:20240310T070000
END:DAYLIGHT
BEGIN:STANDARD
TZOFFSETFROM:-0400
TZOFFSETTO:-0500
TZNAME:EST
DTSTART:20241103T060000
END:STANDARD
BEGIN:DAYLIGHT
TZOFFSETFROM:-0500
TZOFFSETTO:-0400
TZNAME:EDT
DTSTART:20250309T070000
END:DAYLIGHT
BEGIN:STANDARD
TZOFFSETFROM:-0400
TZOFFSETTO:-0500
TZNAME:EST
DTSTART:20251102T060000
END:STANDARD
END:VTIMEZONE
BEGIN:VEVENT
DTSTART;TZID=America/New_York:20241120T100000
DTEND;TZID=America/New_York:20241120T160000
DTSTAMP:20260419T152557
CREATED:20241119T181157Z
LAST-MODIFIED:20241119T181157Z
UID:10000247-1732096800-1732118400@www.pathwaysvermont.org
SUMMARY:Open House - Rosewood Cottage Peer Respite
DESCRIPTION:This is an opportunity to see the new two-bed peer respite house opening next week in Williston! Community members can stop by between 10:00 am and 4:00 pm\, meet staff members\, and learn more about Rosewood Cottage.
URL:https://www.pathwaysvermont.org/event/open-house-rosewood-cottage-peer-respite/
LOCATION:161 Rosewood Drive\, Williston VT\, 161 Rosewood Drive\, Williston\, VT\, 05495\, United States
CATEGORIES:Events,In Person
ATTACH;FMTTYPE=image/jpeg:https://www.pathwaysvermont.org/wp-content/uploads/2024/09/PR-for-webpage.jpg
END:VEVENT
BEGIN:VEVENT
DTSTART;TZID=America/New_York:20241011T090000
DTEND;TZID=America/New_York:20241011T163000
DTSTAMP:20260419T152557
CREATED:20240421T032314Z
LAST-MODIFIED:20240830T200433Z
UID:10000120-1728637200-1728664200@www.pathwaysvermont.org
SUMMARY:Training - Intentional Peer Support Core (5-day In-Person - 10/7 through 10/11/24\, Burlington\, VT)
DESCRIPTION:Intentional Peer Support is a way of thinking about and inviting transformative relationships. Practitioners learn to use relationships to see things from new angles\, develop greater awareness of personal and relational patterns\, and support and challenge each other in trying new things. \nBased on Shery Mead’s book\, Intentional Peer Support: An Alternative Approach\, our in-person Core Training is a 5-day introduction to this innovative framework and is designed to have you practicing right away. In a highly interactive environment\, participants learn the tasks and principles of IPS\, examine assumptions about who they are\, and explore ways to create relationships in which power is negotiated\, co-learning is possible\, and support goes beyond traditional notions of “service.” IPS is all about opening up new ways of seeing\, thinking\, and doing\, and here we examine how to make this possible. \nPlease review this document in its entirety before registering. Registration for this training indicates agreement to participate\, as noted in the document. \nSchedule: \nMonday\, October 7th through Friday\, October 11th\, 9:00am-4:30pm. Participants must attend all days. We will take an hour lunch and two short breaks each day. \nVenue to be announced closer to training date. \nCost: \nThis training is generously sponsored by Vermont’s Peer Workforce Development Initiative. There is only a $100 fee per participant for IPS Core Materials (a book). You will receive your book the first day of the training. \nLocation: \nThis training will be in Burlington\, VT. Venue to be announced closer to training date. \nContact peerworkforce@pathwaysvermont.org with any questions.
URL:https://www.pathwaysvermont.org/event/intentional-peer-support-core-in-person-burlington-vt-2/2024-10-11/
LOCATION:VT
CATEGORIES:In Person,Trainings
END:VEVENT
BEGIN:VEVENT
DTSTART;TZID=America/New_York:20241010T090000
DTEND;TZID=America/New_York:20241010T163000
DTSTAMP:20260419T152557
CREATED:20240421T032314Z
LAST-MODIFIED:20240830T200433Z
UID:10000119-1728550800-1728577800@www.pathwaysvermont.org
SUMMARY:Training - Intentional Peer Support Core (5-day In-Person - 10/7 through 10/11/24\, Burlington\, VT)
DESCRIPTION:Intentional Peer Support is a way of thinking about and inviting transformative relationships. Practitioners learn to use relationships to see things from new angles\, develop greater awareness of personal and relational patterns\, and support and challenge each other in trying new things. \nBased on Shery Mead’s book\, Intentional Peer Support: An Alternative Approach\, our in-person Core Training is a 5-day introduction to this innovative framework and is designed to have you practicing right away. In a highly interactive environment\, participants learn the tasks and principles of IPS\, examine assumptions about who they are\, and explore ways to create relationships in which power is negotiated\, co-learning is possible\, and support goes beyond traditional notions of “service.” IPS is all about opening up new ways of seeing\, thinking\, and doing\, and here we examine how to make this possible. \nPlease review this document in its entirety before registering. Registration for this training indicates agreement to participate\, as noted in the document. \nSchedule: \nMonday\, October 7th through Friday\, October 11th\, 9:00am-4:30pm. Participants must attend all days. We will take an hour lunch and two short breaks each day. \nVenue to be announced closer to training date. \nCost: \nThis training is generously sponsored by Vermont’s Peer Workforce Development Initiative. There is only a $100 fee per participant for IPS Core Materials (a book). You will receive your book the first day of the training. \nLocation: \nThis training will be in Burlington\, VT. Venue to be announced closer to training date. \nContact peerworkforce@pathwaysvermont.org with any questions.
URL:https://www.pathwaysvermont.org/event/intentional-peer-support-core-in-person-burlington-vt-2/2024-10-10/
LOCATION:VT
CATEGORIES:In Person,Trainings
END:VEVENT
BEGIN:VEVENT
DTSTART;TZID=America/New_York:20241009T090000
DTEND;TZID=America/New_York:20241009T163000
DTSTAMP:20260419T152557
CREATED:20240421T032314Z
LAST-MODIFIED:20240830T200433Z
UID:10000118-1728464400-1728491400@www.pathwaysvermont.org
SUMMARY:Training - Intentional Peer Support Core (5-day In-Person - 10/7 through 10/11/24\, Burlington\, VT)
DESCRIPTION:Intentional Peer Support is a way of thinking about and inviting transformative relationships. Practitioners learn to use relationships to see things from new angles\, develop greater awareness of personal and relational patterns\, and support and challenge each other in trying new things. \nBased on Shery Mead’s book\, Intentional Peer Support: An Alternative Approach\, our in-person Core Training is a 5-day introduction to this innovative framework and is designed to have you practicing right away. In a highly interactive environment\, participants learn the tasks and principles of IPS\, examine assumptions about who they are\, and explore ways to create relationships in which power is negotiated\, co-learning is possible\, and support goes beyond traditional notions of “service.” IPS is all about opening up new ways of seeing\, thinking\, and doing\, and here we examine how to make this possible. \nPlease review this document in its entirety before registering. Registration for this training indicates agreement to participate\, as noted in the document. \nSchedule: \nMonday\, October 7th through Friday\, October 11th\, 9:00am-4:30pm. Participants must attend all days. We will take an hour lunch and two short breaks each day. \nVenue to be announced closer to training date. \nCost: \nThis training is generously sponsored by Vermont’s Peer Workforce Development Initiative. There is only a $100 fee per participant for IPS Core Materials (a book). You will receive your book the first day of the training. \nLocation: \nThis training will be in Burlington\, VT. Venue to be announced closer to training date. \nContact peerworkforce@pathwaysvermont.org with any questions.
URL:https://www.pathwaysvermont.org/event/intentional-peer-support-core-in-person-burlington-vt-2/2024-10-09/
LOCATION:VT
CATEGORIES:In Person,Trainings
END:VEVENT
BEGIN:VEVENT
DTSTART;TZID=America/New_York:20241008T090000
DTEND;TZID=America/New_York:20241008T163000
DTSTAMP:20260419T152557
CREATED:20240421T032314Z
LAST-MODIFIED:20240830T200433Z
UID:10000117-1728378000-1728405000@www.pathwaysvermont.org
SUMMARY:Training - Intentional Peer Support Core (5-day In-Person - 10/7 through 10/11/24\, Burlington\, VT)
DESCRIPTION:Intentional Peer Support is a way of thinking about and inviting transformative relationships. Practitioners learn to use relationships to see things from new angles\, develop greater awareness of personal and relational patterns\, and support and challenge each other in trying new things. \nBased on Shery Mead’s book\, Intentional Peer Support: An Alternative Approach\, our in-person Core Training is a 5-day introduction to this innovative framework and is designed to have you practicing right away. In a highly interactive environment\, participants learn the tasks and principles of IPS\, examine assumptions about who they are\, and explore ways to create relationships in which power is negotiated\, co-learning is possible\, and support goes beyond traditional notions of “service.” IPS is all about opening up new ways of seeing\, thinking\, and doing\, and here we examine how to make this possible. \nPlease review this document in its entirety before registering. Registration for this training indicates agreement to participate\, as noted in the document. \nSchedule: \nMonday\, October 7th through Friday\, October 11th\, 9:00am-4:30pm. Participants must attend all days. We will take an hour lunch and two short breaks each day. \nVenue to be announced closer to training date. \nCost: \nThis training is generously sponsored by Vermont’s Peer Workforce Development Initiative. There is only a $100 fee per participant for IPS Core Materials (a book). You will receive your book the first day of the training. \nLocation: \nThis training will be in Burlington\, VT. Venue to be announced closer to training date. \nContact peerworkforce@pathwaysvermont.org with any questions.
URL:https://www.pathwaysvermont.org/event/intentional-peer-support-core-in-person-burlington-vt-2/2024-10-08/
LOCATION:VT
CATEGORIES:In Person,Trainings
END:VEVENT
BEGIN:VEVENT
DTSTART;TZID=America/New_York:20241007T180000
DTEND;TZID=America/New_York:20241007T200000
DTSTAMP:20260419T152557
CREATED:20240919T221426Z
LAST-MODIFIED:20240919T221439Z
UID:10000121-1728324000-1728331200@www.pathwaysvermont.org
SUMMARY:Beyond The Bridge Documentary Screening & Panel Discussion
DESCRIPTION:ABOUT THE FILM \nThe team at A Bigger Vision Films noticed that most documentaries on homelessness offer few solutions\, so they set out to create BEYOND THE BRIDGE\, an ambitious documentary film about solutions to homelessness. The film crew drove over 40\,000 miles to visit 12 cities and dozens of service providers\, those with lived experience and policy makers to answer this question: How can this country solve homelessness in a comprehensive way? \nThe answer: Working with deep coordination — a single homelessness response systems plan based on the principles of Housing First with community buy-in from law enforcement\, judicial systems\, business communities\, service providers\, volunteers\, and leadership from the mayor and county executive\, all working from the same page. \nLearn more about the film here \nLearn more about A Bigger Vision Films here \nABOUT THE EVENT \nA Bigger Vision Films is very excited for you to join for a Special Preview Impact Screening of Beyond the Bridge: A Solution to Homelessness\, hosted in Burlington\, taking place on Monday\, October 7th at the Main Street Landing Film House\, in collaboration with: Pathways Vermont\, Champlain Housing Trust\, The Housing & Homelessness Alliance of Vermont\, and Together Films. \nFollowing this special preview impact screening\, local experts and advocates will join us for a panel conversation and audience Q&A. More info to come soon. \nOur goal is for this film to be a part of a community-wide conversation about homelessness. Who do you know that needs to know more about this issue? Who else needs to get involved in this dialogue? We encourage you to invite others to this free screening\, panel\, and Q&A\, so that we can all be a part of answering the question: How can Vermont solve homelessness in a comprehensive way? \nABOUT THE CAMPAIGN \nThroughout 2024 and 2025\, the Beyond the Bridge team will travel nationwide on a 30-city screening tour\, with the goal of changing the national discourse on solutions to homelessness. Each screening event will include post-screening panels and Q&As\, calls- to-action and follow-up activities for audience members\, and the opportunity for community members to discuss\, together\, how they can begin addressing homelessness in their local communities. Ultimately\, our goals with the campaign are to: \n\nChange the narrative about people experiencing homelessness and solutions to the housing crisis\nInspire communities to develop a unified approach based on Housing First throughout their homelessness and supported housing service system\nBuild unity among homelessness advocates\nExpand public involvement on the issue of homelessness\n\nMore info on the film: https://asolutiontohomelessness.com/
URL:https://www.pathwaysvermont.org/event/beyond-the-bridge-documentary-screening-panel-discussion/
LOCATION:Main Street Landing Film House\, 60 Lake Street\, Burlington\, VT\, 05401\, United States
CATEGORIES:Events,In Person
ATTACH;FMTTYPE=image/jpeg:https://www.pathwaysvermont.org/wp-content/uploads/2024/09/Beyond-The-Bridge-Save-the-Date-10.7.24.jpg
END:VEVENT
BEGIN:VEVENT
DTSTART;TZID=America/New_York:20241007T090000
DTEND;TZID=America/New_York:20241007T163000
DTSTAMP:20260419T152557
CREATED:20240421T032314Z
LAST-MODIFIED:20240830T200433Z
UID:10000116-1728291600-1728318600@www.pathwaysvermont.org
SUMMARY:Training - Intentional Peer Support Core (5-day In-Person - 10/7 through 10/11/24\, Burlington\, VT)
DESCRIPTION:Intentional Peer Support is a way of thinking about and inviting transformative relationships. Practitioners learn to use relationships to see things from new angles\, develop greater awareness of personal and relational patterns\, and support and challenge each other in trying new things. \nBased on Shery Mead’s book\, Intentional Peer Support: An Alternative Approach\, our in-person Core Training is a 5-day introduction to this innovative framework and is designed to have you practicing right away. In a highly interactive environment\, participants learn the tasks and principles of IPS\, examine assumptions about who they are\, and explore ways to create relationships in which power is negotiated\, co-learning is possible\, and support goes beyond traditional notions of “service.” IPS is all about opening up new ways of seeing\, thinking\, and doing\, and here we examine how to make this possible. \nPlease review this document in its entirety before registering. Registration for this training indicates agreement to participate\, as noted in the document. \nSchedule: \nMonday\, October 7th through Friday\, October 11th\, 9:00am-4:30pm. Participants must attend all days. We will take an hour lunch and two short breaks each day. \nVenue to be announced closer to training date. \nCost: \nThis training is generously sponsored by Vermont’s Peer Workforce Development Initiative. There is only a $100 fee per participant for IPS Core Materials (a book). You will receive your book the first day of the training. \nLocation: \nThis training will be in Burlington\, VT. Venue to be announced closer to training date. \nContact peerworkforce@pathwaysvermont.org with any questions.
URL:https://www.pathwaysvermont.org/event/intentional-peer-support-core-in-person-burlington-vt-2/2024-10-07/
LOCATION:VT
CATEGORIES:In Person,Trainings
END:VEVENT
BEGIN:VEVENT
DTSTART;TZID=America/New_York:20240713T120000
DTEND;TZID=America/New_York:20240713T150000
DTSTAMP:20260419T152557
CREATED:20240416T135800Z
LAST-MODIFIED:20240416T135915Z
UID:10000081-1720872000-1720882800@www.pathwaysvermont.org
SUMMARY:2024 Vermont Mad Pride Day March and Celebration
DESCRIPTION:Join us on July 13\, 2024\, in Burlington for Vermont Mad Pride\, a march and celebration organized by psychiatric survivors\, consumers\, mad people\, and folks the world has labeled “mentally ill.” It’s about shedding shame\, challenging discrimination\, advocating for rights\, affirming mad identities\, remembering and participating in mad history\, and having fun.
URL:https://www.pathwaysvermont.org/event/2024-vermont-mad-pride-day-march-and-celebration/
LOCATION:Battery Park\, Battery Park Extension\, Burlington\, VT\, 05401\, United States
CATEGORIES:Events,In Person
END:VEVENT
BEGIN:VEVENT
DTSTART;TZID=America/New_York:20220621T090000
DTEND;TZID=America/New_York:20220621T170000
DTSTAMP:20260419T152557
CREATED:20220411T152415Z
LAST-MODIFIED:20220411T152415Z
UID:10000061-1655802000-1655830800@www.pathwaysvermont.org
SUMMARY:Conversations About Suicide (in-person Burlington\, VT)
DESCRIPTION:As peer support workers\, we will sometimes support folks who are thinking of dying by suicide. This participatory workshop is intended to support ourselves\, fellow staff\, and service recipients to engage in conversations about suicide in ways that prioritize compassion\, empathy\, and autonomy. We’ll spend time unpacking suicide as a language of pain\, then consider ways to support folks who are thinking about dying. Through sharing personal stories\, opening up dialogue\, and practicing difficult conversations\, we will educate and support each other to remain curious\, lean into discomfort\, and center mutuality. \nTraining schedule: Tuesday 6/21\, 9:00am-5:00pm (1-hour lunch\, 15-min break in the morning\, 15-min break in the afternoon) \nTo register\, click here! \nThis training will be held in-person in the Burlington\, VT area. Venue will be announced closer to the training. \nThis training is free of charge to participants and sponsored by Vermont’s Peer Workforce Development Initiative.
URL:https://www.pathwaysvermont.org/event/conversations-about-suicide-in-person-burlington-vt/
LOCATION:VT
CATEGORIES:In Person,Online Webinar
END:VEVENT
BEGIN:VEVENT
DTSTART;TZID=America/New_York:20220601T090000
DTEND;TZID=America/New_York:20220601T170000
DTSTAMP:20260419T152557
CREATED:20220121T161920Z
LAST-MODIFIED:20220121T161920Z
UID:10000070-1654074000-1654102800@www.pathwaysvermont.org
SUMMARY:Statewide Intentional Peer Support Core Training (In Person - Location & Times TBD)
DESCRIPTION:June 2022 – (dates and times to be determined). Please email training@pathwaysvermont.org to be pre-registered. \nDescription: From the IPS Website “Intentional Peer Support is a way of thinking about and inviting transformative relationships. Practitioners learn to use relationships to see things from new angles\, develop greater awareness of personal and relational patterns\, and support and challenge each other in trying new things. \nBased on Shery Mead’s book\, Intentional Peer Support: An Alternative Approach\, our Core Training is a 5-day total introduction to this innovative framework and is designed to have you practicing right away. In a highly interactive environment\, participants learn the tasks and principles of IPS\, examine assumptions about who they are\, and explore ways to create relationships in which power is negotiated\, co-learning is possible\, and support goes beyond traditional notions of “service.” IPS is all about opening up new ways of seeing\, thinking\, and doing\, and here we examine how to make this possible. \nThis training is generously sponsored by the Peer Workforce Development Initiative–there is only a $100 fee per participant for IPS Core Materials.
URL:https://www.pathwaysvermont.org/event/statewide-intentional-peer-support-core-training-in-person-location-times-tbd/
LOCATION:VT
CATEGORIES:In Person
END:VEVENT
END:VCALENDAR