BEGIN:VCALENDAR
VERSION:2.0
PRODID:-//Pathways Vermont - ECPv6.15.20//NONSGML v1.0//EN
CALSCALE:GREGORIAN
METHOD:PUBLISH
X-WR-CALNAME:Pathways Vermont
X-ORIGINAL-URL:https://www.pathwaysvermont.org
X-WR-CALDESC:Events for Pathways Vermont
REFRESH-INTERVAL;VALUE=DURATION:PT1H
X-Robots-Tag:noindex
X-PUBLISHED-TTL:PT1H
BEGIN:VTIMEZONE
TZID:America/New_York
BEGIN:DAYLIGHT
TZOFFSETFROM:-0500
TZOFFSETTO:-0400
TZNAME:EDT
DTSTART:20240310T070000
END:DAYLIGHT
BEGIN:STANDARD
TZOFFSETFROM:-0400
TZOFFSETTO:-0500
TZNAME:EST
DTSTART:20241103T060000
END:STANDARD
BEGIN:DAYLIGHT
TZOFFSETFROM:-0500
TZOFFSETTO:-0400
TZNAME:EDT
DTSTART:20250309T070000
END:DAYLIGHT
BEGIN:STANDARD
TZOFFSETFROM:-0400
TZOFFSETTO:-0500
TZNAME:EST
DTSTART:20251102T060000
END:STANDARD
BEGIN:DAYLIGHT
TZOFFSETFROM:-0500
TZOFFSETTO:-0400
TZNAME:EDT
DTSTART:20260308T070000
END:DAYLIGHT
BEGIN:STANDARD
TZOFFSETFROM:-0400
TZOFFSETTO:-0500
TZNAME:EST
DTSTART:20261101T060000
END:STANDARD
END:VTIMEZONE
BEGIN:VEVENT
DTSTART;TZID=America/New_York:20250204T100000
DTEND;TZID=America/New_York:20250204T120000
DTSTAMP:20260421T092557
CREATED:20250123T205115Z
LAST-MODIFIED:20250123T210502Z
UID:10000511-1738663200-1738670400@www.pathwaysvermont.org
SUMMARY:Fat Liberation & Health at Every Size™ Training
DESCRIPTION:Fatness is not an indicator of health. In this two-hour workshop\, we’ll explore how fatphobia creates a system of inequity that harms fat people\, thus affecting their health. We will talk first about Health at Every Size™\, a set of principles and frameworks that presents an alternative to the weight-centered approach to treating patients of all sizes. HAES™ promotes health equity\, ending weight discrimination\, and improved access to quality healthcare regardless of size. Next\, we’ll explore Fat Liberation\, a movement that maintains fatness at the center of its narrative and focuses on the way fat people are mistreated\, marginalized\, and oppressed by various systems. Through this training\, participants will challenge and shift oppressive thinking and gain insight into ways to better support fat people and people who have experienced weight discrimination. \nBy the end of the workshop\, participants will; \n\nDefine health beyond myths and misconceptions\nDiscuss drawbacks of dieting\nLearn about the HAES™ model\nExplore the history of Fat Liberation\nDiscuss differences between Body Positivity and Fat Liberation\nExplore how anti-fat bias causes harm\nExamine connections between anti-fat bias and other oppressive ideologies and systems\n\nFacilitator: \nSkylar Kelley\, RN is the Nurse Team Lead at Pathways Vermont. They have worked in various nursing settings including ICU\, cardiac care\, and in the community. They believe that healthcare that feels supportive and choice-centered should be available to ALL of us\, ALL of the time…for FREE! Skylar is passionate about harm-reduction\, collective liberation\, and donuts. They live in Colchester\, VT with their spouse\, toddler\, and two cats. In their spare time they play dress-up with said toddler and try to convince her that walking in the woods continuously in one direction (you might call it “hiking”) is a good time. \nLogsitics: \nPlease log in from a quiet\, undisturbed location for this event as there are interactive sessions with discussions\, not webinars. \nThis training is for people who work and/or live in Vermont. This training is free of charge to participants and generously sponsored by the Peer Workforce Development Initiative. \nContact peerworkforce@pathwaysvermont.org with any questions.
URL:https://www.pathwaysvermont.org/event/fat-liberation-health-at-every-size-training/
LOCATION:Virtual
CATEGORIES:Trainings
END:VEVENT
BEGIN:VEVENT
DTSTART;TZID=America/New_York:20250205T180000
DTEND;TZID=America/New_York:20250205T200000
DTSTAMP:20260421T092557
CREATED:20240621T122127Z
LAST-MODIFIED:20250709T155842Z
UID:10000254-1738778400-1738785600@www.pathwaysvermont.org
SUMMARY:Community Cooking at Outright Vermont
DESCRIPTION:Want to cook food with a friendly group of folks and work together to fight hunger in our community? Join us for Community Cooking every Wednesday from 6-8 pm at Outright Vermont (241 N. Winooski Ave) – entrance through the side door up the driveway. \nEvery week\, we cook up a big\, healthy meal. The food we make is shared among the chefs\, Community Center members\, and attendees of the Food Not Bombs free lunch. No prior cooking experience necessary! For more information\, you can contact April at: aprilf@pathwaysvermont.org.
URL:https://www.pathwaysvermont.org/event/community-cooking-2/2025-02-05/
CATEGORIES:Events,Peer Support Center
END:VEVENT
BEGIN:VEVENT
DTSTART;TZID=America/New_York:20250212T180000
DTEND;TZID=America/New_York:20250212T200000
DTSTAMP:20260421T092557
CREATED:20240621T122127Z
LAST-MODIFIED:20250709T155842Z
UID:10000255-1739383200-1739390400@www.pathwaysvermont.org
SUMMARY:Community Cooking at Outright Vermont
DESCRIPTION:Want to cook food with a friendly group of folks and work together to fight hunger in our community? Join us for Community Cooking every Wednesday from 6-8 pm at Outright Vermont (241 N. Winooski Ave) – entrance through the side door up the driveway. \nEvery week\, we cook up a big\, healthy meal. The food we make is shared among the chefs\, Community Center members\, and attendees of the Food Not Bombs free lunch. No prior cooking experience necessary! For more information\, you can contact April at: aprilf@pathwaysvermont.org.
URL:https://www.pathwaysvermont.org/event/community-cooking-2/2025-02-12/
CATEGORIES:Events,Peer Support Center
END:VEVENT
BEGIN:VEVENT
DTSTART;TZID=America/New_York:20250213T130000
DTEND;TZID=America/New_York:20250213T150000
DTSTAMP:20260421T092557
CREATED:20250123T205714Z
LAST-MODIFIED:20250123T210449Z
UID:10000512-1739451600-1739458800@www.pathwaysvermont.org
SUMMARY:Overdose Prevention and Management Training
DESCRIPTION:In this 2-hour workshop\, participants will learn about this person-directed approach utilizing multiple strategies to reduce the negative consequences of harmful behaviors associated with the use of drugs. Together\, we’ll explore how to meet folks where they are and support them to develop strategies to gain control over areas of their lives that may be destructive. Participants will: develop empathy and compassion by reflecting on our own harmful behaviors; investigate the utilization of self-harm behaviors as survival tools for managing pain\, trauma\, and anxieties; learn about strategies for navigating and diminishing harm; practice engaging in conversations about the pain and trauma that lead to harmful behaviors; and learn basic overdose prevention & management skills. \nBy the end of the workshop\, participants will be; \n\nable to identify what is happening during an overdose and the potential risks associated.\nable to identify the signs of overdose and respond with lifesaving measures\, including Naloxone.\ninformed of the different bodily responses to stimulants and how to identify potential overuse of stimulants.\n\nFacilitator: \nSkylar Kelley\, RN\, is the Nurse Team Lead at Pathways Vermont. They have worked in various nursing settings including ICU\, cardiac care\, and in the community. They believe that healthcare that feels supportive and choice-centered should be available to ALL of us\, ALL of the time…for FREE! Skylar is passionate about harm-reduction\, collective liberation\, and donuts. They live in Colchester\, VT with their spouse\, toddler\, and two cats. In their spare time they play dress-up with said toddler and try to convince her that walking in the woods continuously in one direction (you might call it “hiking”) is a good time. \nLogistics: \nPlease log in from a quiet\, undisturbed location for this event as there are interactive sessions with discussions\, not webinars. \nThis training is for people who work and/or live in Vermont. This training is free of charge to participants and generously sponsored by the Peer Workforce Development Initiative. \nContact peerworkforce@pathwaysvermont.org with any questions.
URL:https://www.pathwaysvermont.org/event/overdose-prevention-and-management-training/
LOCATION:Virtual
CATEGORIES:Trainings
END:VEVENT
BEGIN:VEVENT
DTSTART;TZID=America/New_York:20250219T180000
DTEND;TZID=America/New_York:20250219T200000
DTSTAMP:20260421T092557
CREATED:20240621T122127Z
LAST-MODIFIED:20250709T155842Z
UID:10000256-1739988000-1739995200@www.pathwaysvermont.org
SUMMARY:Community Cooking at Outright Vermont
DESCRIPTION:Want to cook food with a friendly group of folks and work together to fight hunger in our community? Join us for Community Cooking every Wednesday from 6-8 pm at Outright Vermont (241 N. Winooski Ave) – entrance through the side door up the driveway. \nEvery week\, we cook up a big\, healthy meal. The food we make is shared among the chefs\, Community Center members\, and attendees of the Food Not Bombs free lunch. No prior cooking experience necessary! For more information\, you can contact April at: aprilf@pathwaysvermont.org.
URL:https://www.pathwaysvermont.org/event/community-cooking-2/2025-02-19/
CATEGORIES:Events,Peer Support Center
END:VEVENT
BEGIN:VEVENT
DTSTART;TZID=America/New_York:20250221T130000
DTEND;TZID=America/New_York:20250221T140000
DTSTAMP:20260421T092557
CREATED:20250217T145705Z
LAST-MODIFIED:20250217T145705Z
UID:10000248-1740142800-1740146400@www.pathwaysvermont.org
SUMMARY:Game Time @ PVCC
DESCRIPTION:Board games\, video games\, card games\, and more — we got it all at Pathways Game Time! Come through for a fun time. \nAsk questions at pvcc@pathwaysvermont.org.
URL:https://www.pathwaysvermont.org/event/game-time-pvcc-2/
LOCATION:Pathways Vermont Community Center\, 279 North Winooski Ave\, Burlington\, VT\, 05401\, United States
CATEGORIES:Events,Peer Support Center
END:VEVENT
BEGIN:VEVENT
DTSTART;TZID=America/New_York:20250224T103000
DTEND;TZID=America/New_York:20250224T120000
DTSTAMP:20260421T092557
CREATED:20240621T121923Z
LAST-MODIFIED:20250217T145748Z
UID:10000104-1740393000-1740398400@www.pathwaysvermont.org
SUMMARY:Community Breakfast @ PVCC
DESCRIPTION:Come hungry! Our monthly community breakfast will feature French toast\, eggs\, bacon\, and more.
URL:https://www.pathwaysvermont.org/event/community-breakfast-pvcc/
LOCATION:Pathways Vermont Community Center\, 279 North Winooski Ave\, Burlington\, VT\, 05401\, United States
CATEGORIES:Events,Peer Support Center
END:VEVENT
BEGIN:VEVENT
DTSTART;TZID=America/New_York:20250226T180000
DTEND;TZID=America/New_York:20250226T200000
DTSTAMP:20260421T092557
CREATED:20240621T122127Z
LAST-MODIFIED:20250709T155842Z
UID:10000257-1740592800-1740600000@www.pathwaysvermont.org
SUMMARY:Community Cooking at Outright Vermont
DESCRIPTION:Want to cook food with a friendly group of folks and work together to fight hunger in our community? Join us for Community Cooking every Wednesday from 6-8 pm at Outright Vermont (241 N. Winooski Ave) – entrance through the side door up the driveway. \nEvery week\, we cook up a big\, healthy meal. The food we make is shared among the chefs\, Community Center members\, and attendees of the Food Not Bombs free lunch. No prior cooking experience necessary! For more information\, you can contact April at: aprilf@pathwaysvermont.org.
URL:https://www.pathwaysvermont.org/event/community-cooking-2/2025-02-26/
CATEGORIES:Events,Peer Support Center
END:VEVENT
BEGIN:VEVENT
DTSTART;TZID=America/New_York:20250228T130000
DTEND;TZID=America/New_York:20250228T140000
DTSTAMP:20260421T092557
CREATED:20240421T145840Z
LAST-MODIFIED:20250217T145816Z
UID:10000103-1740747600-1740751200@www.pathwaysvermont.org
SUMMARY:Open Mic @ PVCC
DESCRIPTION:Share your talents! Join us for Open Mic at the Pathways Vermont Community Center – 279 North Winooski Ave\, Burlington. Sign up or ask questions at pvcc@pathwaysvermont.org.
URL:https://www.pathwaysvermont.org/event/open-mic-night/
LOCATION:Pathways Vermont Community Center\, 279 North Winooski Ave\, Burlington\, VT\, 05401\, United States
CATEGORIES:Events,Peer Support Center
END:VEVENT
END:VCALENDAR